BEGIN:VCALENDAR
VERSION:2.0
PRODID:Postgres World Webinar Series 2024
CALSCALE:GREGORIAN
BEGIN:VEVENT
DTSTAMP:20260424T055547Z
UID:be7b3060-a1e6-4807-a8d9-432c38042f2c
DTSTART:20240207T230000Z
DTEND:20240208T000000Z
LOCATION:PostgresWorld Zoom
SUMMARY:[Meetup Livestream] Better materialized views in 1 million LOC: Ins
 ide Materialize's PostgresSQL src (Sean Loiselle)
URL:https://postgresconf.org/conferences/PostgresWorld_Webinars_2024/progra
 m/proposals/2193
END:VEVENT
BEGIN:VEVENT
DTSTAMP:20260424T055547Z
UID:489ab12c-101a-4cf4-9852-a70e093712d1
DTSTART:20240522T170000Z
DTEND:20240522T180000Z
LOCATION:PostgresWorld Zoom
SUMMARY:Using Postgres in a Multi-Tenant SaaS - Securing Everyone’s Data 
 (Rajan Palanivel)
URL:https://postgresconf.org/conferences/PostgresWorld_Webinars_2024/progra
 m/proposals/2288
END:VEVENT
BEGIN:VEVENT
DTSTAMP:20260424T055547Z
UID:157dc22c-082f-4dd5-ac67-abd659f54660
DTSTART:20240612T170000Z
DTEND:20240612T180000Z
LOCATION:PostgresWorld Zoom
SUMMARY:Advanced Strategies for PostgreSQL Lock Management (Greg Dostatni)
URL:https://postgresconf.org/conferences/PostgresWorld_Webinars_2024/progra
 m/proposals/2289
END:VEVENT
BEGIN:VEVENT
DTSTAMP:20260424T055547Z
UID:a67e9140-8013-4d88-89c1-f1b84dbc78eb
DTSTART:20240625T220000Z
DTEND:20240625T233000Z
LOCATION:PostgresWorld Zoom
SUMMARY:NYC Postgres Meetup Livestream: Postgres Automation and Hyperscalin
 g (Luigi Nardi)
URL:https://postgresconf.org/conferences/PostgresWorld_Webinars_2024/progra
 m/proposals/2290
END:VEVENT
BEGIN:VEVENT
DTSTAMP:20260424T055547Z
UID:06dc43ff-44d3-4e1e-9356-2287f65df2a6
DTSTART:20240626T170000Z
DTEND:20240626T180000Z
LOCATION:PostgresWorld Zoom
SUMMARY:Build Gen AI Apps on PostgreSQL that Run Anywhere (Randall Rhea)
URL:https://postgresconf.org/conferences/PostgresWorld_Webinars_2024/progra
 m/proposals/2291
END:VEVENT
BEGIN:VEVENT
DTSTAMP:20260424T055547Z
UID:4a71db0c-418e-4eeb-8ef8-cfa477f36bc2
DTSTART:20240710T170000Z
DTEND:20240710T180000Z
LOCATION:PostgresWorld Zoom
SUMMARY:Learning PostgreSQL (Dave Stokes)
URL:https://postgresconf.org/conferences/PostgresWorld_Webinars_2024/progra
 m/proposals/2292
END:VEVENT
BEGIN:VEVENT
DTSTAMP:20260424T055547Z
UID:bb5bf8a7-67c7-420b-96b6-4459dd7e9fd7
DTSTART:20241002T220000Z
DTEND:20241002T233000Z
LOCATION:PostgresWorld Zoom
SUMMARY:[Meetup Livestream] Leveraging a PL/RUST extension to protect sensi
 tive data in PostgreSQL (Rajan Palanivel)
URL:https://postgresconf.org/conferences/PostgresWorld_Webinars_2024/progra
 m/proposals/2293
END:VEVENT
BEGIN:VEVENT
DTSTAMP:20260424T055547Z
UID:42c3c8df-9d8e-4ba9-9589-b5f5a1459a6d
DTSTART:20241210T180000Z
DTEND:20241210T190000Z
LOCATION:PostgresWorld Zoom
SUMMARY:Apache Cloudberry™ (Incubating): The Latest Database for SQL at S
 cale  (Jacque Istok\, Louis Mugnano\, Antonio Petrole\, and Ed Espino)
URL:https://postgresconf.org/conferences/PostgresWorld_Webinars_2024/progra
 m/proposals/2405
END:VEVENT
END:VCALENDAR
