BEGIN:VCALENDAR
VERSION:2.0
PRODID:PGConf Local: Seattle [PgConf.US]
CALSCALE:GREGORIAN
BEGIN:VEVENT
DTSTAMP:20260421T104024Z
UID:2b962a10-939d-424c-bf69-a340fc68a436
DTSTART:20171113T133000Z
DTEND:20171113T163000Z
LOCATION:Ravenna
SUMMARY:Scaling PostgreSQL Using Linux Containers in the Enterprise (Robert
  Bernier)
URL:https://postgresconf.org/conferences/Seattle2017/program/proposals/730
END:VEVENT
BEGIN:VEVENT
DTSTAMP:20260421T104024Z
UID:95577207-0051-4124-9e01-7d1cbd5cdb07
DTSTART:20171114T143000Z
DTEND:20171114T152000Z
LOCATION:Issaquah
SUMMARY:GRAKN.AI: the hyper-relational database for knowledge-oriented syst
 ems CANCELLED  (Haikal Pribadi)
URL:https://postgresconf.org/conferences/Seattle2017/program/proposals/694
END:VEVENT
BEGIN:VEVENT
DTSTAMP:20260421T104024Z
UID:62c34e92-8314-4257-a706-48e64a51d82a
DTSTART:20171114T143000Z
DTEND:20171114T152000Z
LOCATION:Ravenna
SUMMARY:Under the hood: API integrations and more in an energy efficiency P
 ostgreSQL + Django application (Jennifer Scheuerell)
URL:https://postgresconf.org/conferences/Seattle2017/program/proposals/731
END:VEVENT
BEGIN:VEVENT
DTSTAMP:20260421T104024Z
UID:80ebeb30-f2fe-445d-babf-7a42b3e16e5f
DTSTART:20171114T143000Z
DTEND:20171114T152000Z
LOCATION:Metropolitan B
SUMMARY:Enterprise Data Architecture with PostgreSQL (Kevin Kempter)
URL:https://postgresconf.org/conferences/Seattle2017/program/proposals/721
END:VEVENT
BEGIN:VEVENT
DTSTAMP:20260421T104024Z
UID:fac3570e-3b9c-4951-b5a8-42e174094be6
DTSTART:20171114T154000Z
DTEND:20171114T163000Z
LOCATION:Issaquah
SUMMARY:Best Practices with Managed PostgreSQL in the Cloud (Jignesh Shah)
URL:https://postgresconf.org/conferences/Seattle2017/program/proposals/716
END:VEVENT
BEGIN:VEVENT
DTSTAMP:20260421T104024Z
UID:2ff55a6f-f911-4073-ad91-77ab7cb2a444
DTSTART:20171114T154000Z
DTEND:20171114T163000Z
LOCATION:Metropolitan B
SUMMARY:Building a scalable time-series database on PostgreSQL ( Matvey Ary
 e)
URL:https://postgresconf.org/conferences/Seattle2017/program/proposals/729
END:VEVENT
BEGIN:VEVENT
DTSTAMP:20260421T104024Z
UID:2b8d097d-ea77-487d-9c05-216f0860196f
DTSTART:20171114T154000Z
DTEND:20171114T163000Z
LOCATION:Ravenna
SUMMARY:Introduction to JavaScript Stored Procedures (Jim Mlodgenski)
URL:https://postgresconf.org/conferences/Seattle2017/program/proposals/695
END:VEVENT
BEGIN:VEVENT
DTSTAMP:20260421T104024Z
UID:d737eaf6-c275-4fdb-a2ab-fa558d2b5067
DTSTART:20171114T164000Z
DTEND:20171114T173000Z
LOCATION:Metropolitan B
SUMMARY:All the dirt on Vacuum (Jim Nasby)
URL:https://postgresconf.org/conferences/Seattle2017/program/proposals/725
END:VEVENT
BEGIN:VEVENT
DTSTAMP:20260421T104024Z
UID:798984ff-88e3-4077-be33-852bea9d6bc5
DTSTART:20171114T164000Z
DTEND:20171114T173000Z
LOCATION:Issaquah
SUMMARY:Tuning PostgreSQL for High Write Workloads (David Wein)
URL:https://postgresconf.org/conferences/Seattle2017/program/proposals/710
END:VEVENT
BEGIN:VEVENT
DTSTAMP:20260421T104024Z
UID:dd992e75-a975-4e72-a575-e03527f35198
DTSTART:20171114T164000Z
DTEND:20171114T173000Z
LOCATION:Ravenna
SUMMARY:Using GIS in PostgreSQL (Lloyd Albin)
URL:https://postgresconf.org/conferences/Seattle2017/program/proposals/720
END:VEVENT
END:VCALENDAR
